BEGIN:VCALENDAR
VERSION:2.0
PRODID:-//Aumônerie Catholique Valence - ECPv4.5.5//NONSGML v1.0//EN
CALSCALE:GREGORIAN
METHOD:PUBLISH
X-WR-CALNAME:Aumônerie Catholique Valence
X-ORIGINAL-URL:http://aumoneriecatholique-valence.fr
X-WR-CALDESC:Events for Aumônerie Catholique Valence
BEGIN:VEVENT
DTSTART;TZID=UTC+1:20171111T100000
DTEND;TZID=UTC+1:20171111T180000
DTSTAMP:20260426T002242
CREATED:20171105T105512Z
LAST-MODIFIED:20171105T105512Z
UID:3363-1510394400-1510423200@aumoneriecatholique-valence.fr
SUMMARY:Séance AEP Collège
DESCRIPTION:
URL:http://aumoneriecatholique-valence.fr/event/seance-aep-college/
CATEGORIES:Collège
END:VEVENT
END:VCALENDAR