BEGIN:VCALENDAR
VERSION:2.0
PRODID:-//Aumônerie Catholique Valence - ECPv4.5.5//NONSGML v1.0//EN
CALSCALE:GREGORIAN
METHOD:PUBLISH
X-WR-CALNAME:Aumônerie Catholique Valence
X-ORIGINAL-URL:http://aumoneriecatholique-valence.fr
X-WR-CALDESC:Events for Aumônerie Catholique Valence
BEGIN:VEVENT
DTSTART;TZID=UTC+1:20171222T190000
DTEND;TZID=UTC+1:20171222T223000
DTSTAMP:20260423T121906
CREATED:20171104T092958Z
LAST-MODIFIED:20171105T105354Z
UID:3348-1513969200-1513981800@aumoneriecatholique-valence.fr
SUMMARY:L'AEP Collège fête Noël !
DESCRIPTION:
URL:http://aumoneriecatholique-valence.fr/event/laep-college-fete-noel/
CATEGORIES:Collège
END:VEVENT
END:VCALENDAR