BEGIN:VCALENDAR
VERSION:2.0
PRODID:-//Aumônerie Catholique Valence - ECPv4.5.5//NONSGML v1.0//EN
CALSCALE:GREGORIAN
METHOD:PUBLISH
X-WR-CALNAME:Aumônerie Catholique Valence
X-ORIGINAL-URL:http://aumoneriecatholique-valence.fr
X-WR-CALDESC:Events for Aumônerie Catholique Valence
BEGIN:VEVENT
DTSTART;TZID=UTC+1:20180915T100000
DTEND;TZID=UTC+1:20180915T130000
DTSTAMP:20260423T214056
CREATED:20180912T083133Z
LAST-MODIFIED:20180912T085435Z
UID:3549-1537005600-1537016400@aumoneriecatholique-valence.fr
SUMMARY:Rentrée AEP
DESCRIPTION:
URL:http://aumoneriecatholique-valence.fr/event/rentree-aep-et-festival-eden/
CATEGORIES:Collège,Lycée,Tous
END:VEVENT
BEGIN:VEVENT
DTSTART;TZID=UTC+1:20180915T133000
DTEND;TZID=UTC+1:20180915T230000
DTSTAMP:20260423T214056
CREATED:20180912T085600Z
LAST-MODIFIED:20180912T085600Z
UID:3565-1537018200-1537052400@aumoneriecatholique-valence.fr
SUMMARY:Festival EDEN
DESCRIPTION:
URL:http://aumoneriecatholique-valence.fr/event/festival-eden/
CATEGORIES:Collège,Lycée,Tous
END:VEVENT
END:VCALENDAR